BEGIN:VCALENDAR
VERSION:2.0
PRODID:-//Chinese American Citizens Alliance - Boston Lodge - ECPv6.15.3//NONSGML v1.0//EN
CALSCALE:GREGORIAN
METHOD:PUBLISH
X-WR-CALNAME:Chinese American Citizens Alliance - Boston Lodge
X-ORIGINAL-URL:https://www.cacaboston.org
X-WR-CALDESC:Events for Chinese American Citizens Alliance - Boston Lodge
REFRESH-INTERVAL;VALUE=DURATION:PT1H
X-Robots-Tag:noindex
X-PUBLISHED-TTL:PT1H
BEGIN:VTIMEZONE
TZID:UTC
BEGIN:STANDARD
TZOFFSETFROM:+0000
TZOFFSETTO:+0000
TZNAME:UTC
DTSTART:20160101T000000
END:STANDARD
END:VTIMEZONE
BEGIN:VEVENT
DTSTART;TZID=UTC:20160131T123000
DTEND;TZID=UTC:20160131T140000
DTSTAMP:20260423T202832
CREATED:20160123T210545Z
LAST-MODIFIED:20160123T211439Z
UID:191-1454243400-1454248800@www.cacaboston.org
SUMMARY:2016 C.A.C.A. Boston Inaugural Lunch
DESCRIPTION:C.A.C.A. Boston will hold our Officers Inauguration on Sunday\, January 31\, 2016 at the Empire Garden Restaurant on 690 Washington Street\, Boston from 12:30 pm to 2:00 pm.  We will have a swear-in ceremony for our 2016 officers. \nSpecial honor guests: \nFremont\, California Vice Mayor Suzanne Lee Chan  and her husband Dr. Steven D. Chan will be joining us. \nPlease RSVP to reserve number of seats by emailing: cacabostonlodge@gmail.com !!     Your present means a lot to our special event.  Lunch cost is $20 per person. \nPlease see invitation: C.A.C.A. Boston Inaugural Lunch Invitation 1-31-2016
URL:https://www.cacaboston.org/event/2016-c-a-c-a-inaugural-lunch/
LOCATION:Empire Garden\, 690 Washington St\, Boston
ORGANIZER;CN="C.A.C.A Boston Lodge":MAILTO:cacabostonlodge@gmail.com
END:VEVENT
END:VCALENDAR